BEGIN:VCALENDAR
VERSION:2.0
PRODID:-//Crossroads UMC - ECPv6.15.3//NONSGML v1.0//EN
CALSCALE:GREGORIAN
METHOD:PUBLISH
X-WR-CALNAME:Crossroads UMC
X-ORIGINAL-URL:https://crossroadswaunakee.org
X-WR-CALDESC:Events for Crossroads UMC
REFRESH-INTERVAL;VALUE=DURATION:PT1H
X-Robots-Tag:noindex
X-PUBLISHED-TTL:PT1H
BEGIN:VTIMEZONE
TZID:America/Chicago
BEGIN:DAYLIGHT
TZOFFSETFROM:-0600
TZOFFSETTO:-0500
TZNAME:CDT
DTSTART:20260308T080000
END:DAYLIGHT
BEGIN:STANDARD
TZOFFSETFROM:-0500
TZOFFSETTO:-0600
TZNAME:CST
DTSTART:20261101T070000
END:STANDARD
END:VTIMEZONE
BEGIN:VEVENT
DTSTART;TZID=America/Chicago:20260129T180000
DTEND;TZID=America/Chicago:20260507T200000
DTSTAMP:20260423T070824
CREATED:20260108T192143Z
LAST-MODIFIED:20260108T192143Z
UID:14207-1769709600-1778184000@crossroadswaunakee.org
SUMMARY:Spanish 1 and 4
DESCRIPTION:Conversational Spanish 1 – Thursdays\, January 29 – May 7\, 2026\, 6:00-8:00pm (no class Apr 2) \nThis Madison College course\, taught by native speakers\, will start you with the basics of speaking\, reading and writing while practicing having conversations and building confidence to start speaking Spanish.  Cost is $299/person ($249 for ages 60+). Scholarships are available upon request.   \n  \nConversational Spanish 4 – Thursdays\, January 29 – May 7\, 2026\, 6:00-8:00pm (no class Apr 2) \nThis Madison College course is taught almost entirely in Spanish. You’ll gain confidence speaking\, expand your vocabulary\, master more complex sentence structures\, and learn past and future tenses. Cost is $299/person ($249 for ages 60+). Partial and full scholarships are available upon request.   \n  \nDifferent levels of Spanish are offered each semester\, with bilingual conversation between classes.  
URL:https://crossroadswaunakee.org/event/spanish-1-and-4/
CATEGORIES:community,Fellowship
ATTACH;FMTTYPE=image/png:https://crossroadswaunakee.org/wp-content/uploads/2026/01/Spanish-1-4.png
END:VEVENT
BEGIN:VEVENT
DTSTART;TZID=America/Chicago:20260212T180000
DTEND;TZID=America/Chicago:20260521T200000
DTSTAMP:20260423T070824
CREATED:20260208T032449Z
LAST-MODIFIED:20260208T212847Z
UID:14243-1770919200-1779393600@crossroadswaunakee.org
SUMMARY:Spanish 1 and 4 Classes
DESCRIPTION:Conversational Foundations: Spanish 1 – Thursdays\, January 29 – May 7\, 2026\, 6:00-8:00pm (no class Apr 2) \nThis Madison College course\, taught by native speakers\, will start you with the basics of speaking\, reading and writing while practicing having conversations and building confidence to start speaking Spanish.  Cost is $299/person ($249 for ages 60+). Scholarships are available upon request.   \nSpanish Immersion: Spanish 4 – Thursdays\, January 29 – May 7\, 2026\, 6:00-8:00pm (no class Apr 2) \nThis Madison College course is taught almost entirely in Spanish. You’ll gain confidence speaking\, expand your vocabulary\, master more complex sentence structures\, and learn past and future tenses. Cost is $299/person ($249 for ages 60+). Partial and full scholarships are available upon request.   \nRegister at PuntodeConeXion@CrossroadsWaunakee.org.
URL:https://crossroadswaunakee.org/event/spanish-1-and-4-copy/
CATEGORIES:community,Fellowship
ATTACH;FMTTYPE=image/png:https://crossroadswaunakee.org/wp-content/uploads/2026/01/Spanish-1-4.png
END:VEVENT
BEGIN:VEVENT
DTSTART;VALUE=DATE:20260425
DTEND;VALUE=DATE:20260524
DTSTAMP:20260423T070824
CREATED:20260420T044219Z
LAST-MODIFIED:20260420T044520Z
UID:14379-1777075200-1779580799@crossroadswaunakee.org
SUMMARY:Job Opportunity - Part-time Pianist
DESCRIPTION:Crossroads is currently hiring a part-time pianist.  The position is designed to enhance the music ministry of Crossroads UMC by providing piano music and accompanying the Crossroads Choir at church functions\, including worship services and rehearsals. The weekly hourly commitment is expected to average 10 hours per week\, which includes home practice time\, playing at Sunday morning worship services\, choir practice usually one night per week September through May\, and warming up with the choir Sundays before worship. Funerals\, weddings and other events are determined by availability and are negotiated separately. \nPlease read the job description for more details and for instructions to apply: Job Description. \nThis position will be posted until filled.  Crossroads United Methodist Church is an equal opportunity employer.
URL:https://crossroadswaunakee.org/event/job-opportunity/
CATEGORIES:community,Employment / Volunteer,ministry
ATTACH;FMTTYPE=image/jpeg:https://crossroadswaunakee.org/wp-content/uploads/2017/04/job-opportunity-24549521.jpg
END:VEVENT
BEGIN:VEVENT
DTSTART;TZID=America/Chicago:20260502T090000
DTEND;TZID=America/Chicago:20260502T100000
DTSTAMP:20260423T070824
CREATED:20260204T174159Z
LAST-MODIFIED:20260406T214328Z
UID:14235-1777712400-1777716000@crossroadswaunakee.org
SUMMARY:United Women in Faith
DESCRIPTION:The United Women in Faith will be having their monthly meeting on Saturday at 9:00am at M-N-M Coffeehouse in Waunakee.
URL:https://crossroadswaunakee.org/event/united-women-in-faith-2/
LOCATION:M-n-M’s Coffeehouse\, 509 W Main St\, Waunakee\, WI\, 53597\, United States
ATTACH;FMTTYPE=image/png:https://crossroadswaunakee.org/wp-content/uploads/2025/05/UWF-WEB.png
END:VEVENT
BEGIN:VEVENT
DTSTART;TZID=America/Chicago:20260611T090000
DTEND;TZID=America/Chicago:20260613T150000
DTSTAMP:20260423T070824
CREATED:20260407T162230Z
LAST-MODIFIED:20260422T171046Z
UID:14357-1781168400-1781362800@crossroadswaunakee.org
SUMMARY:Free To Be Who God Created Me To Be! Bible Arts Camp
DESCRIPTION:Free To Be who God created me to be! \nFREE Bilingual Bible Arts Camp for Children Ages 4 – Grade 5! \nThursday\, June 11 – Saturday\, June 13\, 9:00am – 3:00pm.  \nChildren will bring their own lunches and snacks as well as a water bottle. \nJoin us for “Free To Be” Bible Arts Camp\, where together we will explore how we can live freely as we have been created by God from love. \nEach day will include time to explore our gifts in singing\, movement and dance\, playing instruments\, skits\, and games. Dress comfortable for movement and for the weather that day. Attendance all three days is encouraged\, but children may come fewer days if needed. \nChildren’s Presentation Sunday\, June 14 at 9:30am  \nOn Sunday\, June 14\, the children will share during Crossroads’ 9:30 am Worship. Please come at 9:00am for a short rehearsal and review on Sunday morning. \nFor questions\, please contact our office at 608-849-9599 or hello@crossroadswaunakee.org.
URL:https://crossroadswaunakee.org/event/free-to-be-who-god-created-me-to-be-vacation-bible-and-arts-camp/
CATEGORIES:community,Employment / Volunteer,Fellowship,ministry,worship
ATTACH;FMTTYPE=image/png:https://crossroadswaunakee.org/wp-content/uploads/2026/04/Free-to-be-1.png
END:VEVENT
END:VCALENDAR